
BEGIN:VCALENDAR
VERSION:2.0
PRODID:-//Tvoříme Evropu - ECPv6.15.20//NONSGML v1.0//EN
CALSCALE:GREGORIAN
METHOD:PUBLISH
X-WR-CALNAME:Tvoříme Evropu
X-ORIGINAL-URL:https://tvorimevropu.cz
X-WR-CALDESC:Akce na Tvoříme Evropu
REFRESH-INTERVAL;VALUE=DURATION:PT1H
X-Robots-Tag:noindex
X-PUBLISHED-TTL:PT1H
BEGIN:VTIMEZONE
TZID:Europe/Prague
BEGIN:DAYLIGHT
TZOFFSETFROM:+0100
TZOFFSETTO:+0200
TZNAME:CEST
DTSTART:20250330T010000
END:DAYLIGHT
BEGIN:STANDARD
TZOFFSETFROM:+0200
TZOFFSETTO:+0100
TZNAME:CET
DTSTART:20251026T010000
END:STANDARD
BEGIN:DAYLIGHT
TZOFFSETFROM:+0100
TZOFFSETTO:+0200
TZNAME:CEST
DTSTART:20260329T010000
END:DAYLIGHT
BEGIN:STANDARD
TZOFFSETFROM:+0200
TZOFFSETTO:+0100
TZNAME:CET
DTSTART:20261025T010000
END:STANDARD
BEGIN:DAYLIGHT
TZOFFSETFROM:+0100
TZOFFSETTO:+0200
TZNAME:CEST
DTSTART:20270328T010000
END:DAYLIGHT
BEGIN:STANDARD
TZOFFSETFROM:+0200
TZOFFSETTO:+0100
TZNAME:CET
DTSTART:20271031T010000
END:STANDARD
END:VTIMEZONE
BEGIN:VEVENT
DTSTART;VALUE=DATE:20260227
DTEND;VALUE=DATE:20260501
DTSTAMP:20260420T161257
CREATED:20260303T104016Z
LAST-MODIFIED:20260303T104016Z
UID:182711-1772150400-1777593599@tvorimevropu.cz
SUMMARY:Online kvíz Poznejte Kypr
DESCRIPTION:Vyzkoušejte si\, jak znáte aktuální předsednickou zemi Evropské unie – Kypr – a vyhrajte zajímavé ceny! \nKypr předsedá Radě Evropské unie od 1. ledna do 30. června 2026. Zapojte se do kvízu\, který jsme pro Vás u příležitosti kyperského předsednictví připravili. Dozvíte se řadu zajímavostí a vyhrát můžete deskové hry\, knihy a další atraktivní ceny. Kvíz je možné vyplnit do 30. 4. 2026. \n \nPravidla soutěže: \n\nVyplňte všech 10 kvízových otázek a získejte minimálně 5000 bodů. Pokud dosáhnete tohoto skóre\, budete automaticky zařazeni do slosování o zajímavé ceny.\nKvíz naleznete ZDE nebo můžete zadat soutěžní pin 003542092 na kahoot.it.\nZ celkového počtu účastníků\, kteří splní podmínky\, vylosujeme 3 šťastné výherce\, kteří získají atraktivní ceny. Po ukončení soutěže budeme výherce kontaktovat na uvedeném e-mailu. V případě\, že daný výherce neodpoví do 7 dní\, nárok na výhru propadá a budeme kontaktovat náhradníka.\nVyplňte na konci kvízu své jméno a e-mailovou adresu. Tyto údaje je nutné vyplnit\, abychom Vás mohli kontaktovat v případě výhry. Pokud nebudou tyto údaje vyplněné\, nebudete zařazeni do slosování.\nVýhry odesíláme pouze na území České republiky\, do zahraničí není možné výhry zaslat.\n\nPodrobná pravidla soutěže (pdf): Podmínky soutěže Poznejte Kypr \nPřejeme Vám hodně štěstí v soutěži! \n 
URL:https://tvorimevropu.cz/event/online-kviz-poznejte-kypr/
CATEGORIES:České Budějovice
END:VEVENT
BEGIN:VEVENT
DTSTART;VALUE=DATE:20260410
DTEND;VALUE=DATE:20260512
DTSTAMP:20260420T161257
CREATED:20260310T101031Z
LAST-MODIFIED:20260330T124422Z
UID:182847-1775779200-1778543999@tvorimevropu.cz
SUMMARY:Soutěž školních časopisů
DESCRIPTION:Rádi bychom Vás informovali o možnosti zapojit se do soutěže školních novin a časopisů. \n \nNárodní soutěž školních časopisů a novin je připravena pro všechny\, kteří vydávají časopisy nebo noviny ve školských zařízeních\, studentských klubech\, oddílech\, střediscích volného času\, domech dětí a mládeže a na jejichž tvorbě se podílejí děti a mládež. Jedná se o soutěž postupovou\, která je zařazena do oficiálních soutěží Talent centra Ministerstva školství\, mládeže a tělovýchovy ČR. Hlavním organizátorem je Petrklíč Help\, z.s. V letošním roce proběhne jubilejní 20. ročník celostátní soutěže. \nPro účast v celorepublikové části soutěže je potřeba úspěšně projít krajským kolem. Uzávěrka přihlášek 16. ročníku Jihočeského krajského kola soutěže školních novin a časopisů je stanovena na den 10. dubna 2026\, vyhlášení výsledků se uskuteční v pátek 29. května 2026 ve Studentském klubu Kampa\, v areálu Zemědělské fakulty JU v Českých Budějovicích. \nBližší informace naleznete v tomto dokumentu: 2026 vyhlášení soutěže školních časopisů (pdf).
URL:https://tvorimevropu.cz/event/soutez-skolnich-casopisu/
CATEGORIES:České Budějovice
END:VEVENT
BEGIN:VEVENT
DTSTART;VALUE=DATE:20260416
DTEND;VALUE=DATE:20260522
DTSTAMP:20260420T161257
CREATED:20260416T121444Z
LAST-MODIFIED:20260416T121631Z
UID:183727-1776297600-1779407999@tvorimevropu.cz
SUMMARY:Výtvarná soutěž Pohádková Evropa
DESCRIPTION:Evropské pohádky a příběhy jsou součástí bohaté kulturní historie Evropy. Sněhurka\, Šmoulové\, Pipi Dlouhá punčocha nebo Harry Potter? Jistě jich znáte mnohem víc. Tak neváhejte a zapojte se do soutěže o deskové hry a další zajímavé ceny.  \nNakreslete libovolnou technikou svou oblíbenou pohádkovou postavu a připište\, z jaké evropské země pohádka pochází. \nSoutěž je určena pro žáky(ně) základních škol a odpovídajících ročníků víceletých gymnázií. Formát výtvarného díla je max A3. \nSoutěž probíhá ve 2 kategoriích: \n\n1.–5. třída ZŠ;\n6.–9. třída ZŠ a odpovídajících ročníků víceletých gymnázií.\n\nVýtvarná díla je možné odeslat do 21. 5. 2026 na adresu: Eurocentrum České Budějovice\, podatelna Krajského úřadu Jihočeského kraje\, U Zimního stadionu 1952/2\, 370 01 České Budějovice. Na obálku uveďte také kontaktní telefon Eurocentra: +420 720 970 597. \nOrganizátory soutěže jsou Eurocentrum České Budějovice a EUROPE DIRECT České Budějovice. \nPodrobné podmínky soutěže (pdf): Pravidla a podmínky soutěže Pohádková Evropa \n \n 
URL:https://tvorimevropu.cz/event/vytvarna-soutez-pohadkova-evropa/
CATEGORIES:České Budějovice
END:VEVENT
END:VCALENDAR